{"text_format":"1","workbook":"xlsx","n_sheets":2,"sheets":["入力用","事務局用"],"not_rendered":{"charts":0,"images":0,"macros":0,"external_links":0,"defined_names":1,"comments":0,"pivot_tables":0},"unopened":[],"bounds":{"document_bytes":16777216,"sheet_cells":100000,"rows_first":2000,"rows_last":500,"rows_between":2000,"halvings":0,"cell_chars":16384,"cell_head_chars":4096},"cells_cut":0,"cells_raw":0,"read":"whole","date_system":"1900"}

{"sheet":"入力用","index":0,"n_rows":46,"n_cols":20,"rows_kept":46,"cut":false,"hidden":false,"merged":[[44,13,44,15],[44,16,44,19],[45,13,45,15],[45,16,45,19],[13,14,13,15],[14,13,14,18],[41,13,41,18],[42,13,42,15],[42,16,42,19],[43,13,43,15],[43,16,43,19],[7,16,7,18],[8,13,8,18],[9,14,9,15],[10,14,10,15],[11,14,11,15],[12,14,12,15],[45,2,45,4],[1,12,1,20],[2,13,2,15],[2,16,2,19],[3,13,3,15],[3,16,3,19],[4,13,4,15],[4,16,4,19],[5,13,6,15],[5,16,6,19],[45,5,45,8],[2,5,2,8],[3,5,3,8],[4,5,4,8],[5,5,6,8],[44,5,44,8],[43,2,43,4],[44,2,44,4],[2,2,2,4],[3,2,3,4],[4,2,4,4],[41,2,41,7],[42,5,42,8],[5,2,6,4],[42,2,42,4],[43,5,43,8],[1,1,1,9],[8,2,8,7],[13,3,13,4],[9,3,9,4],[14,2,14,7],[10,3,10,4],[11,3,11,4],[12,3,12,4],[7,5,7,7]]}
[]
[null,"白川病院旗争奪 第22回 岐阜県学童軟式野球大会　選手名簿・連絡先",null,null,null,null,null,null,null,null,null,null,"記入例　白川病院旗争奪 第22回 岐阜県学童軟式野球大会　選手名簿・連絡先"]
[null,null,"ふりがな",null,null,null,null,null,null,null,null,null,null,"ふりがな",null,null,"かにちゅうおうやきゅう"]
[null,null,"チーム名",null,null,null,null,null,null,null,null,null,null,"チーム名",null,null,"可児中央野球"]
[null,null,"支部名",null,null,null,null,null,null,null,null,null,null,"支部名",null,null,"可児市"]
[null,null,"チーム\nプロフィール",null,null,null,null,null,null,null,null,null,null,"チーム\nプロフィール",null,null,"チーム一丸、全員野球で頑張ります。試合では大きな声を出し合って、みんなで助け合いながら一戦一戦を勝ち抜いていきます。"]
[]
[null,null,null,null,null,"↑↑80文字以内でお願いします。（改行はしないで下さい。）",null,null,{"$f":"LEN(F6)&\"文字\"","v":"0文字"},null,null,null,null,null,null,null,"↑↑80文字以内でお願いします。（改行はしないで下さい。）",null,null,{"$f":"LEN(Q6)&\"文字\"","v":"58文字"}]
[null,null,"◎指導者",null,null,null,null,null,null,null,null,null,null,"◎指導者"]
[null,null,null,"役　職",null,"氏名","ふりがな","年齢","携帯電話番号",null,null,null,null,null,"役　職",null,"氏名","ふりがな","年齢","携帯電話番号"]
[null,null,1,"連絡責任者",null,null,null,null,null,null,null,null,null,1,"連絡責任者",null,"冨田　本塁","とみだ　ほんるい",39,"050-1234-5678"]
[null,null,2,"監督(３０)",null,null,null,null,null,null,null,null,null,2,"監督(３０)",null,"可児　三郎","ちゅうのう　さぶろう",30,"070-9876-5432"]
[null,null,3,"コーチ(２９)",null,null,null,null,null,null,null,null,null,3,"コーチ(２９)",null,"伊藤　九郎","ちゅうのう　くろう",29]
[null,null,4,"コーチ(２８)",null,null,null,null,null,null,null,null,null,4,"コーチ(２８)",null,"佐藤　八郎","ちゅうのう　はちろう",28]
[null,null,"◎選手　（背番号順で入力して下さい。）",null,null,null,null,null,null,null,null,null,null,"◎選手　（背番号順で入力して下さい。）"]
[null,null,"№","背番号","守備","氏名","ふりがな","学年",null,null,null,null,null,"№","背番号","守備","氏名","ふりがな","学年"]
[null,null,1,10,"主将",null,null,null,null,null,null,null,null,1,10,"主将","可児　一朗","かに　いちろう",6]
[null,null,2,null,null,null,null,null,null,null,null,null,null,2,1,"選手","加茂　次郎","かも　じろう",6]
[null,null,3,null,null,null,null,null,null,null,null,null,null,3,2,"選手","美濃　三郎","みの　さぶろう",6]
[null,null,4,null,null,null,null,null,null,null,null,null,null,4,3,"選手","御嵩　四郎","みたけ　しろう",5]
[null,null,5,null,null,null,null,null,null,null,null,null,null,5,5,"選手","美濃　五郎","みの　ごろう",5]
[null,null,6,null,null,null,null,null,null,null,null,null,null,6,6,"選手","可児　六助","かに　ろくすけ",6]
[null,null,7,null,null,null,null,null,null,null,null,null,null,7,9,"選手","関　菜々","せき　なな",6]
[null,null,8,null,null,null,null,null,null,null,null,null,null,8,11,"選手","加茂　八郎","かも　はちろう",4]
[null,null,9,null,null,null,null,null,null,null,null,null,null,9,23,"選手","郡上　勘九郎","こおりうえ　かんくろう",5]
[null,null,10,null,null,null,null,null,null,null,null,null,null,10,67,"選手","関　十兵衛","せき　じゅうべえ",6]
[null,null,11,null,null,null,null,null,{"$f":"IF(D27>D28,\"batu\",\"\")","v":""},null,null,null,null,11,null,null,null,null,null,{"$f":"IF(O27>O28,\"batu\",\"\")","v":""}]
[null,null,12,null,null,null,null,null,"",null,null,null,null,12,null,null,null,null,null,""]
[null,null,13,null,null,null,null,null,"",null,null,null,null,13,null,null,null,null,null,""]
[null,null,14,null,null,null,null,null,"",null,null,null,null,14,null,null,null,null,null,""]
[null,null,15,null,null,null,null,null,"",null,null,null,null,15,null,null,null,null,null,{"$f":"IF(O31>O37,\"batu\",\"\")","v":""}]
[null,null,16,null,null,null,null,null,"",null,null,null,null,16]
[null,null,17,null,null,null,null,null,"",null,null,null,null,17]
[null,null,18,null,null,null,null,null,"",null,null,null,null,18]
[null,null,19,null,null,null,null,null,"",null,null,null,null,19]
[null,null,20,null,null,null,null,null,"",null,null,null,null,20]
[null,null,21,null,null,null,null,null,"",null,null,null,null,21,null,null,null,null,null,""]
[null,null,22,null,null,null,null,null,"",null,null,null,null,22,null,null,null,null,null,""]
[null,null,23,null,null,null,null,null,"",null,null,null,null,23,null,null,null,null,null,""]
[null,null,24,null,null,null,null,null,"",null,null,null,null,24,null,null,null,null,null,""]
[null,null,25,null,null,null,null,null,"",null,null,null,null,25]
[null,null,"◎集合写真サンプル送付先（共同写真企画から写真サンプルを送付いたします。）",null,null,null,null,null,null,null,null,null,null,"◎集合写真サンプル送付先（共同写真企画から写真サンプルを送付いたします。）"]
[null,null,"氏名",null,null,null,null,null,null,null,null,null,null,"氏名",null,null,"冨田　本塁"]
[null,null,"郵便番号",null,null,null,null,null,null,null,null,null,null,"郵便番号",null,null,"505-0027"]
[null,null,"住所",null,null,null,null,null,null,null,null,null,null,"住所",null,null,"岐阜県可児市広見1-1"]
[null,null,"電話番号",null,null,null,null,null,null,null,null,null,null,"電話番号",null,null,"0574-62-1111"]

{"sheet":"事務局用","index":1,"n_rows":3,"n_cols":150,"rows_kept":3,"cut":false,"hidden":false,"merged":[]}
[1,2,3,4,5,6,7,8,9,10,11,12,13,14,15,16,17,18,19,20,21,22,23,24,25,26,27,28,29,30,31,32,33,34,35,36,37,38,39,40,41,42,43,44,45,46,47,48,49,50,51,52,53,54,55,56,57,58,59,60,61,62,63,64,65,66,67,68,69,70,71,72,73,74,75,76,77,78,79,80,81,82,83,84,85,86,87,88,89,90,91,92,93,94,95,96,97,98,99,100,101,102,103,104,105,106,107,108,109,110,111,112,113,114,115,116,117,118,119,120,121,122,123,124,125,126,127,128,129,130,131,132,133,134,135,136,137,138,139,140,141,142,143,144,145,146,147,148,149,150]
[null,{"$f":"IF(入力用!F4<>\"\",入力用!F4,\"\")","v":""},{"$f":"IF(入力用!F3<>\"\",入力用!F3,\"\")","v":""},null,{"$f":"IF(入力用!F5<>\"\",入力用!F5,\"\")","v":""},null,{"$f":"IF(入力用!F11<>\"\",入力用!F11,\"\")","v":""},{"$f":"IF(入力用!G11<>\"\",入力用!G11,\"\")","v":""},{"$f":"IF(入力用!H11<>\"\",入力用!H11,\"\")","v":""},{"$f":"IF(入力用!I11<>\"\",ASC(入力用!I11),\"\")","v":""},{"$f":"IF(入力用!F12<>\"\",入力用!F12,\"\")","v":""},{"$f":"IF(入力用!G12<>\"\",入力用!G12,\"\")","v":""},{"$f":"IF(入力用!H12<>\"\",入力用!H12,\"\")","v":""},{"$f":"IF(入力用!I12<>\"\",ASC(入力用!I12),\"\")","v":""},{"$f":"IF(入力用!F13<>\"\",入力用!F13,\"\")","v":""},{"$f":"IF(入力用!G13<>\"\",入力用!G13,\"\")","v":""},{"$f":"IF(入力用!H13<>\"\",入力用!H13,\"\")","v":""},{"$f":"IF(入力用!F14<>\"\",入力用!F14,\"\")","v":""},{"$f":"IF(入力用!G14<>\"\",入力用!G14,\"\")","v":""},{"$f":"IF(入力用!H14<>\"\",入力用!H14,\"\")","v":""},{"$f":"IF(入力用!D17<>\"\",入力用!D17,\"\")","v":10},{"$f":"IF(入力用!E17<>\"\",入力用!E17,\"\")","v":"主将"},{"$f":"IF(入力用!F17<>\"\",入力用!F17,\"\")","v":""},{"$f":"IF(入力用!G17<>\"\",入力用!G17,\"\")","v":""},{"$f":"IF(入力用!H17<>\"\",入力用!H17,\"\")","v":""},{"$f":"IF(入力用!D18<>\"\",入力用!D18,\"\")","v":""},{"$f":"IF(入力用!E18<>\"\",入力用!E18,\"\")","v":""},{"$f":"IF(入力用!F18<>\"\",入力用!F18,\"\")","v":""},{"$f":"IF(入力用!G18<>\"\",入力用!G18,\"\")","v":""},{"$f":"IF(入力用!H18<>\"\",入力用!H18,\"\")","v":""},{"$f":"IF(入力用!D19<>\"\",入力用!D19,\"\")","v":""},{"$f":"IF(入力用!E19<>\"\",入力用!E19,\"\")","v":""},{"$f":"IF(入力用!F19<>\"\",入力用!F19,\"\")","v":""},{"$f":"IF(入力用!G19<>\"\",入力用!G19,\"\")","v":""},{"$f":"IF(入力用!H19<>\"\",入力用!H19,\"\")","v":""},{"$f":"IF(入力用!D20<>\"\",入力用!D20,\"\")","v":""},{"$f":"IF(入力用!E20<>\"\",入力用!E20,\"\")","v":""},{"$f":"IF(入力用!F20<>\"\",入力用!F20,\"\")","v":""},{"$f":"IF(入力用!G20<>\"\",入力用!G20,\"\")","v":""},{"$f":"IF(入力用!H20<>\"\",入力用!H20,\"\")","v":""},{"$f":"IF(入力用!D21<>\"\",入力用!D21,\"\")","v":""},{"$f":"IF(入力用!E21<>\"\",入力用!E21,\"\")","v":""},{"$f":"IF(入力用!F21<>\"\",入力用!F21,\"\")","v":""},{"$f":"IF(入力用!G21<>\"\",入力用!G21,\"\")","v":""},{"$f":"IF(入力用!H21<>\"\",入力用!H21,\"\")","v":""},{"$f":"IF(入力用!D22<>\"\",入力用!D22,\"\")","v":""},{"$f":"IF(入力用!E22<>\"\",入力用!E22,\"\")","v":""},{"$f":"IF(入力用!F22<>\"\",入力用!F22,\"\")","v":""},{"$f":"IF(入力用!G22<>\"\",入力用!G22,\"\")","v":""},{"$f":"IF(入力用!H22<>\"\",入力用!H22,\"\")","v":""},{"$f":"IF(入力用!D23<>\"\",入力用!D23,\"\")","v":""},{"$f":"IF(入力用!E23<>\"\",入力用!E23,\"\")","v":""},{"$f":"IF(入力用!F23<>\"\",入力用!F23,\"\")","v":""},{"$f":"IF(入力用!G23<>\"\",入力用!G23,\"\")","v":""},{"$f":"IF(入力用!H23<>\"\",入力用!H23,\"\")","v":""},{"$f":"IF(入力用!D24<>\"\",入力用!D24,\"\")","v":""},{"$f":"IF(入力用!E24<>\"\",入力用!E24,\"\")","v":""},{"$f":"IF(入力用!F24<>\"\",入力用!F24,\"\")","v":""},{"$f":"IF(入力用!G24<>\"\",入力用!G24,\"\")","v":""},{"$f":"IF(入力用!H24<>\"\",入力用!H24,\"\")","v":""},{"$f":"IF(入力用!D25<>\"\",入力用!D25,\"\")","v":""},{"$f":"IF(入力用!E25<>\"\",入力用!E25,\"\")","v":""},{"$f":"IF(入力用!F25<>\"\",入力用!F25,\"\")","v":""},{"$f":"IF(入力用!G25<>\"\",入力用!G25,\"\")","v":""},{"$f":"IF(入力用!H25<>\"\",入力用!H25,\"\")","v":""},{"$f":"IF(入力用!D26<>\"\",入力用!D26,\"\")","v":""},{"$f":"IF(入力用!E26<>\"\",入力用!E26,\"\")","v":""},{"$f":"IF(入力用!F26<>\"\",入力用!F26,\"\")","v":""},{"$f":"IF(入力用!G26<>\"\",入力用!G26,\"\")","v":""},{"$f":"IF(入力用!H26<>\"\",入力用!H26,\"\")","v":""},{"$f":"IF(入力用!D27<>\"\",入力用!D27,\"\")","v":""},{"$f":"IF(入力用!E27<>\"\",入力用!E27,\"\")","v":""},{"$f":"IF(入力用!F27<>\"\",入力用!F27,\"\")","v":""},{"$f":"IF(入力用!G27<>\"\",入力用!G27,\"\")","v":""},{"$f":"IF(入力用!H27<>\"\",入力用!H27,\"\")","v":""},{"$f":"IF(入力用!D28<>\"\",入力用!D28,\"\")","v":""},{"$f":"IF(入力用!E28<>\"\",入力用!E28,\"\")","v":""},{"$f":"IF(入力用!F28<>\"\",入力用!F28,\"\")","v":""},{"$f":"IF(入力用!G28<>\"\",入力用!G28,\"\")","v":""},{"$f":"IF(入力用!H28<>\"\",入力用!H28,\"\")","v":""},{"$f":"IF(入力用!D29<>\"\",入力用!D29,\"\")","v":""},{"$f":"IF(入力用!E29<>\"\",入力用!E29,\"\")","v":""},{"$f":"IF(入力用!F29<>\"\",入力用!F29,\"\")","v":""},{"$f":"IF(入力用!G29<>\"\",入力用!G29,\"\")","v":""},{"$f":"IF(入力用!H29<>\"\",入力用!H29,\"\")","v":""},{"$f":"IF(入力用!D30<>\"\",入力用!D30,\"\")","v":""},{"$f":"IF(入力用!E30<>\"\",入力用!E30,\"\")","v":""},{"$f":"IF(入力用!F30<>\"\",入力用!F30,\"\")","v":""},{"$f":"IF(入力用!G30<>\"\",入力用!G30,\"\")","v":""},{"$f":"IF(入力用!H30<>\"\",入力用!H30,\"\")","v":""},{"$f":"IF(入力用!D31<>\"\",入力用!D31,\"\")","v":""},{"$f":"IF(入力用!E31<>\"\",入力用!E31,\"\")","v":""},{"$f":"IF(入力用!F31<>\"\",入力用!F31,\"\")","v":""},{"$f":"IF(入力用!G31<>\"\",入力用!G31,\"\")","v":""},{"$f":"IF(入力用!H31<>\"\",入力用!H31,\"\")","v":""},{"$f":"IF(入力用!D32<>\"\",入力用!D32,\"\")","v":""},{"$f":"IF(入力用!E32<>\"\",入力用!E32,\"\")","v":""},{"$f":"IF(入力用!F32<>\"\",入力用!F32,\"\")","v":""},{"$f":"IF(入力用!G32<>\"\",入力用!G32,\"\")","v":""},{"$f":"IF(入力用!H32<>\"\",入力用!H32,\"\")","v":""},{"$f":"IF(入力用!D33<>\"\",入力用!D33,\"\")","v":""},{"$f":"IF(入力用!E33<>\"\",入力用!E33,\"\")","v":""},{"$f":"IF(入力用!F33<>\"\",入力用!F33,\"\")","v":""},{"$f":"IF(入力用!G33<>\"\",入力用!G33,\"\")","v":""},{"$f":"IF(入力用!H33<>\"\",入力用!H33,\"\")","v":""},{"$f":"IF(入力用!D34<>\"\",入力用!D34,\"\")","v":""},{"$f":"IF(入力用!E34<>\"\",入力用!E34,\"\")","v":""},{"$f":"IF(入力用!F34<>\"\",入力用!F34,\"\")","v":""},{"$f":"IF(入力用!G34<>\"\",入力用!G34,\"\")","v":""},{"$f":"IF(入力用!H34<>\"\",入力用!H34,\"\")","v":""},{"$f":"IF(入力用!D35<>\"\",入力用!D35,\"\")","v":""},{"$f":"IF(入力用!E35<>\"\",入力用!E35,\"\")","v":""},{"$f":"IF(入力用!F35<>\"\",入力用!F35,\"\")","v":""},{"$f":"IF(入力用!G35<>\"\",入力用!G35,\"\")","v":""},{"$f":"IF(入力用!H35<>\"\",入力用!H35,\"\")","v":""},{"$f":"IF(入力用!D36<>\"\",入力用!D36,\"\")","v":""},{"$f":"IF(入力用!E36<>\"\",入力用!E36,\"\")","v":""},{"$f":"IF(入力用!F36<>\"\",入力用!F36,\"\")","v":""},{"$f":"IF(入力用!G36<>\"\",入力用!G36,\"\")","v":""},{"$f":"IF(入力用!H36<>\"\",入力用!H36,\"\")","v":""},{"$f":"IF(入力用!D37<>\"\",入力用!D37,\"\")","v":""},{"$f":"IF(入力用!E37<>\"\",入力用!E37,\"\")","v":""},{"$f":"IF(入力用!F37<>\"\",入力用!F37,\"\")","v":""},{"$f":"IF(入力用!G37<>\"\",入力用!G37,\"\")","v":""},{"$f":"IF(入力用!H37<>\"\",入力用!H37,\"\")","v":""},{"$f":"IF(入力用!D38<>\"\",入力用!D38,\"\")","v":""},{"$f":"IF(入力用!E38<>\"\",入力用!E38,\"\")","v":""},{"$f":"IF(入力用!F38<>\"\",入力用!F38,\"\")","v":""},{"$f":"IF(入力用!G38<>\"\",入力用!G38,\"\")","v":""},{"$f":"IF(入力用!H38<>\"\",入力用!H38,\"\")","v":""},{"$f":"IF(入力用!D39<>\"\",入力用!D39,\"\")","v":""},{"$f":"IF(入力用!E39<>\"\",入力用!E39,\"\")","v":""},{"$f":"IF(入力用!F39<>\"\",入力用!F39,\"\")","v":""},{"$f":"IF(入力用!G39<>\"\",入力用!G39,\"\")","v":""},{"$f":"IF(入力用!H39<>\"\",入力用!H39,\"\")","v":""},{"$f":"IF(入力用!D40<>\"\",入力用!D40,\"\")","v":""},{"$f":"IF(入力用!E40<>\"\",入力用!E40,\"\")","v":""},{"$f":"IF(入力用!F40<>\"\",入力用!F40,\"\")","v":""},{"$f":"IF(入力用!G40<>\"\",入力用!G40,\"\")","v":""},{"$f":"IF(入力用!H40<>\"\",入力用!H40,\"\")","v":""},{"$f":"IF(入力用!D41<>\"\",入力用!D41,\"\")","v":""},{"$f":"IF(入力用!E41<>\"\",入力用!E41,\"\")","v":""},{"$f":"IF(入力用!F41<>\"\",入力用!F41,\"\")","v":""},{"$f":"IF(入力用!G41<>\"\",入力用!G41,\"\")","v":""},{"$f":"IF(入力用!H41<>\"\",入力用!H41,\"\")","v":""},{"$f":"IF(入力用!F6<>\"\",DBCS(入力用!F6),\"\")","v":""},{"$f":"IF(入力用!F43<>\"\",入力用!F43,\"\")","v":""},{"$f":"IF(入力用!F44<>\"\",ASC(入力用!F44),\"\")","v":""},{"$f":"IF(入力用!F45<>\"\",ASC(入力用!F45),\"\")","v":""},{"$f":"IF(入力用!F46<>\"\",ASC(入力用!F46),\"\")","v":""}]
[{"$f":"IF(入力用!A1<>\"\",入力用!A1,\"\")","v":""},{"$f":"IF(入力用!B1<>\"\",入力用!B1,\"\")","v":""},{"$f":"IF(入力用!C1<>\"\",入力用!C1,\"\")","v":""},null,{"$f":"IF(入力用!D1<>\"\",入力用!D1,\"\")","v":""},null,{"$f":"IF(入力用!E1<>\"\",入力用!E1,\"\")","v":""},null,null,{"$f":"IF(入力用!F1<>\"\",入力用!F1,\"\")","v":""},{"$f":"IF(入力用!G1<>\"\",入力用!G1,\"\")","v":""},null,null,{"$f":"IF(入力用!H1<>\"\",入力用!H1,\"\")","v":""},{"$f":"IF(入力用!I1<>\"\",入力用!I1,\"\")","v":""},null,null,{"$f":"IF(入力用!J1<>\"\",入力用!J1,\"\")","v":""},null,null,{"$f":"IF(入力用!K1<>\"\",入力用!K1,\"\")","v":""}]